BEGIN:VCALENDAR
VERSION:2.0
CALSCALE:GREGORIAN
METHOD:PUBLISH
BEGIN:VEVENT
SUMMARY:Thomas Snégaroff & Béatrice Delvaux | Rencontre
DTSTART:20260731T090000Z
DTEND:20260731T103000Z
DTSTAMP:20260425T154317Z
CATEGORIES:
DESCRIPTION:Les nouveaux oligarquesConversation entre Thomas Snégaroff\, 
 journaliste et historien\, et Béatrice Delvaux\nParking des EstivalesLieu
  de l'évènement: Bivouac des Estivales\n 
GEO:43.936637;5.561774
LOCATION: 84750 Viens - FR
ORGANIZER:Estivales et Paysages
END:VEVENT
END:VCALENDAR
