BEGIN:VCALENDAR
VERSION:2.0
CALSCALE:GREGORIAN
METHOD:PUBLISH
BEGIN:VEVENT
SUMMARY:Thomas Snégaroff | Spectacle
DTSTART:20260730T184500Z
DTEND:20260730T203000Z
DTSTAMP:20260425T155403Z
CATEGORIES:
DESCRIPTION:Ils ne méritent pas tes larmesÉcrit et interprété par Thom
 as Snégaroffmis en scène par Micel Belletanteavec le musicien Xavier Bus
 sy\nParking: Fournil des DavidsLieu de l'évènement: Grand Atelier
GEO:43.936637;5.561774
LOCATION:Les Davids\, route de Banon 84750 Viens - FR
ORGANIZER:Estivales et Paysages
END:VEVENT
END:VCALENDAR
