BEGIN:VCALENDAR
VERSION:2.0
CALSCALE:GREGORIAN
METHOD:PUBLISH
BEGIN:VEVENT
SUMMARY:Pierre Haski & Béatrice Delvaux | Rencontre
DTSTART:20260730T083000Z
DTEND:20260730T100000Z
DTSTAMP:20260425T152727Z
CATEGORIES:
DESCRIPTION:La fin d’un mondeConversation entre Pierre Haski\, journalis
 te\, et Béatrice Delvaux\nPoint de rendez-vous : Bivouac\, point d’acce
 uil des Estivales. Lieu de l’événement : Confirmé sur place - Bivoua
 c ou Amphithéâtre.
GEO:43.936637;5.561774
LOCATION:Les Davids\, route de Banon 84750 Viens - FR
ORGANIZER:Estivales et Paysages
END:VEVENT
END:VCALENDAR
