BEGIN:VCALENDAR
VERSION:2.0
CALSCALE:GREGORIAN
METHOD:PUBLISH
BEGIN:VEVENT
SUMMARY:Upsilone à l'Hospitalet Beach
DTSTART:20260509T193000Z
DTSTAMP:20260424T145418Z
CATEGORIES:
DESCRIPTION:Upsilone\, toujours accompagné de ses lunettes blanche\, nou
 s livre un projet très sérieux. Ne vous y méprenez pas\, à l’ins
 tar de Philippe Katerine\, Vladimir Cauchemar ou encore les débuts de Ma
 rtin Solveig\, Upsilone a des idées\, un savoir-faire et beaucoup d’au
 todérision.\nComme une évidence\, à 12 ans\, il commence à apprend
 re le piano et s’intéresse déjà à la musique électro et aux DJ
 s producteurs français : Daft Punk\, Bob Sinclar\, Martin Solveig... qui
  le marqueront et l’inspireront pour développer son projet musical.\nI
 l fait partie de cette génération Z qui fait tout\, toute seule : les 
 textes\, les mélodies\, la production les vidéos.... C’est la nouvel
 le génération autodidacte\, bien connectée à son temps\, ses codes
  et ses formats.\nCertains l’ont découvert à travers ses tutos « Co
 mment faire un tube » qui cartonnent sur Instagram où il vulgarise la c
 réation de certains hits en pointant du doigt les samples utilisés... 
 D’autres l’ont découvert avec son remix de David Guetta ‘Like I do
 ’\, Vladimir Cauchemar ‘Brrr’ ou encore son titre ‘Bodies Movin’
 \, aux sonorités disco funk et teintées de modernité.\nSon style sin
 gulier mêle les mélodies des années 80 aux sonorités électro/pop
  plus actuelles influencées par Justice ou Breakbot.\nUpsilone a déja
 ̀ collaboré avec de nombreux artistes : David Guetta\, Sebastian\, Mart
 in Solveig\, Kungs...\nLa French Touch 2.0 a souvent cherché sa descenda
 nce\, avec Upsilone\, elle peut y espérer très fortement...\nIl vient 
 d’inaugurer le label « Club Azur » avec son titre ‘Dancing in the 
 Dark’ accompagné d’un magnifique clip.D’autres morceaux sont prévu
 s d’ici la fin d’année.\nWarm up- Maxx Baty – 21h30 / 23h30\nDJ Set
  – Upsilon – 23h30 / 2h
LOCATION:Parking du Languedoc 11100 Narbonne Plage - FR
ORGANIZER:STH CHATEAU L'HOSPITALET
END:VEVENT
END:VCALENDAR
