BEGIN:VCALENDAR
VERSION:2.0
CALSCALE:GREGORIAN
METHOD:PUBLISH
BEGIN:VEVENT
SUMMARY:Toufan Hosseiny | Atelier de sashiko
DTSTART:20260730T140000Z
DTEND:20260730T163000Z
DTSTAMP:20260425T154238Z
CATEGORIES:
DESCRIPTION:Atelier Sashikoet goûter*\nAtelier de reprisage textile à pe
 tits points - à partir de 15 ansanimé par l'artiste Toufan Hosseiny\nPar
 king: Le Fournil des DavidsLieu de l'évènement: Mas des Davids\n*Douceur
 s et boissons chaudes comprises
GEO:43.936637;5.561774
LOCATION:Les Davids\, route de Banon 84750 Viens - FR
ORGANIZER:Estivales et Paysages
END:VEVENT
END:VCALENDAR
