BEGIN:VCALENDAR
VERSION:2.0
CALSCALE:GREGORIAN
METHOD:PUBLISH
BEGIN:VEVENT
SUMMARY:Toufan Hosseiny | Atelier de mending
DTSTART:20260730T070000Z
DTEND:20260730T093000Z
DTSTAMP:20260425T154317Z
CATEGORIES:
DESCRIPTION:Reprisage Visibleet petit-déjeuner*\nAtelier de mending - à
  partir de 15 ansanimé par l'artiste Toufan Hosseiny\nParking: Le Fourni
 l des DavidsLieu de l'évènement: Mas des Davids\n*Viennoiseries et boiss
 ons chaudes comprises
GEO:43.936637;5.561774
LOCATION:Les Davids\, route de Banon 84750 Viens - FR
ORGANIZER:Estivales et Paysages
END:VEVENT
END:VCALENDAR
