BEGIN:VCALENDAR
VERSION:2.0
CALSCALE:GREGORIAN
METHOD:PUBLISH
BEGIN:VEVENT
SUMMARY:Meta and the Cornerstones au Eden Club
DTSTART:20260530T200000Z
DTEND:20260531T020000Z
DTSTAMP:20260422T135428Z
CATEGORIES:
DESCRIPTION:
GEO:47.099615;6.8236012
LOCATION:83 Rue de la Serre 2300 La Chaux-de-Fonds - CH
ORGANIZER:Meta and the Cornerstones
END:VEVENT
END:VCALENDAR
