BEGIN:VCALENDAR
VERSION:2.0
CALSCALE:GREGORIAN
METHOD:PUBLISH
BEGIN:VEVENT
SUMMARY:Rencontre et dédicaces avec David Sala
DTSTART:20260618T160000Z
DTSTAMP:20260425T115545Z
CATEGORIES:
DESCRIPTION:À l’occasion de la parution de Frankenstein (éditions Cas
 terman) \, venez à la rencontre de David Sala.\nEn adaptant magistralemen
 t l'oeuvre de Mary Shelley\, David Sala ne se contente pas de lui donner u
 ne sublime interprétation graphique. S'il a choisi ce roman parmi tout ce
  que compte de chefs-d'oeuvre la littérature\, c'est qu'il y trouve une r
 ésonance particulière avec des thématiques qui lui sont chères : l'acc
 eptation de la différence\, la peur de l'inconnu\, les violences faites a
 ux minorités\, la vindicte populaire... autant de sujets déjà abordés 
 dans ses précédents albums\, qu'il met ici en exergue pour faire de ce F
 rankenstein son album sans doute le plus personnel. \nOubliez l'idée d'u
 n récit romantique à la langue ampoulée du XIX?\, Frankenstein est une 
 oeuvre terriblement moderne\, qui fait directement écho aux grands défis
  actuels de nos sociétés. À lire et faire lire impérativement !
GEO:45.653155;0.150537
LOCATION:121 Rue de Bordeaux 16000 Angoulême - FR
ORGANIZER:la Cité internationale de la bande dessinée et de l'image
END:VEVENT
END:VCALENDAR
