BEGIN:VCALENDAR
VERSION:2.0
CALSCALE:GREGORIAN
METHOD:PUBLISH
BEGIN:VEVENT
SUMMARY:Echange avec Nathan Devers à Nice
DTSTART:20260511T170000Z
DTEND:20260511T200000Z
DTSTAMP:20260423T161418Z
CATEGORIES:
DESCRIPTION:\nEchange exceptionnel avec Nathan Devers à Nice\n\n	À un m
 oment où les repères sont mis à l’épreuve\, certaines voix prennent 
 une importance particulière.\n\n	Le KKL de France vous propose une soiré
 e d’échanges avec Nathan Devers autour de son dernier ouvrage\, Aimer 
 Jérusalem.\n\n	Un livre qui ne contourne rien.\n	Un livre qui prend posit
 ion.\n	Un livre qui interroge le lien à Jérusalem — au-delà des sloga
 ns\, loin des postures.\n\nPourquoi être là ?\n	Parce qu’aujourd’hui
 \, comprendre ne suffit plus.\n	Il faut écouter\, confronter\, clarifier.
 \n	Et assumer.\n\n	Cette rencontre sera un moment rare :\n	– un entretie
 n sans filtre\n	– une réflexion sur Israël\, l’identité et la trans
 mission\n	– une séance de dédicace à l’issue de la conférence\n\nL
 ieu : Nice – Maayane Or \nHoraire : 19h\n\n	Être présent\, ce soir-
 là\, ce n’est pas assister à une conférence.\n	C’est choisir d’ê
 tre dans la réalité du débat.\n
LOCATION:17 avenue Shakespeare 06000 NICE - FR
ORGANIZER:Association KKL
END:VEVENT
END:VCALENDAR
