BEGIN:VCALENDAR
VERSION:2.0
CALSCALE:GREGORIAN
METHOD:PUBLISH
BEGIN:VEVENT
SUMMARY:Création de brin de muguet origami\, avec ses clochettes phosphor
 escentes
DTSTART:20260429T123000Z
DTEND:20260503T123000Z
DTSTAMP:20260422T101115Z
CATEGORIES:
DESCRIPTION:Pour débuter le joli mois de mai\, j’offre un brin de mugue
 t éternel.Le Pavillon des transitions vous propose de réaliser un brin d
 e muguet en origami\, avec ses clochettes de peinture phosphorescente.\nUn
 e belle façon de fêter le 1er mai et le « zéro achat neuf ».\nAppor
 ter un pic à brochette et si vous en avez\, du papier très fin que l’o
 n trouve souvent dans nos boîtes à chaussures ou du papier journal.\nDur
 ée : 2h \;Age : à partir de 9 ans \;Public : familial \;\nINSCRIRE TOU
 S LES PARTICIPANTS. ENFANTS OBLIGATOIREMENT ACCOMPAGNES D’UN ADULTE.\n 
 \n/!\\ Merci de prévenir en cas de désistement afin que votre place puis
 se être réattribuée.\n/!\\ A partir de 10min de retard\, votre place po
 urra être réattribuée.
LOCATION:Quai de Boisguilbert 76000 Rouen - FR
ORGANIZER:Pavillon des Transitions
END:VEVENT
END:VCALENDAR
