BEGIN:VCALENDAR
VERSION:2.0
CALSCALE:GREGORIAN
METHOD:PUBLISH
BEGIN:VEVENT
SUMMARY:Bulle créative : initiation à la broderie
DTSTART:20260613T083000Z
DTSTAMP:20260422T135302Z
CATEGORIES:
DESCRIPTION:\n	Les bibliothécaires vous proposent un atelier DIY ("Do it 
 yourself") sur la thématique de la broderie.\n\n	 \n\n	L'Awena se réser
 ve de le droit de demander une pièce d'identité et de refuser l'entrée 
 en cas de non respect des âges.\n
LOCATION:51 avenue Georges Pompidou 29490 GUIPAVAS - FR
ORGANIZER:Médiathèque Awena
END:VEVENT
END:VCALENDAR
