BEGIN:VCALENDAR
VERSION:2.0
CALSCALE:GREGORIAN
METHOD:PUBLISH
BEGIN:VEVENT
SUMMARY:Projection film - Navalny
DTSTART:20260527T163000Z
DTSTAMP:20260422T054026Z
CATEGORIES:
DESCRIPTION:Projection du film Navalny - mercredi 27 mai à 18h30\, salle 
 Rabelais\, 27 boulevard Sarrail\, Montpellier\nLong-métrage documentaire 
 oscarisé de Daniel Roher (2022)\, suivi d’un échange avec Olga Prokopi
 eva (directrice de Russie-Libertés) et Olga Mikhailova (avocate d’Alexe
 ï Navalny).\nCette projection s'inscrit dans le cadre du cycle événemen
 tiel en hommage à Alexeï Navalny et à tous les Russes qui s'opposent à
  la dictature et à la guerre qui se tient à Montpellier du 18 mai au 7 j
 uin 2026.\nÀ l’occasion du 50e anniversaire d’Alexeï Navalny\, figur
 e emblématique de la résistance russe assassinée en 2024\, les initiati
 ves Les Russes Avec l’Ukraine et l’Équipe Navalny France\, l’associ
 ation Russie-Libertés et le collectif d’art Prometheus\, avec le soutie
 n du Club de la Presse Occitanie et de la ville de Montpellier\, s’uniss
 ent pour organiser un cycle événementiel inédit : Résistances russes :
  de dépit en espoir. Ce projet\, qui se déroule à la Maison des Relatio
 ns Internationales et à la salle Rabelais\, vise à sensibiliser le publi
 c montpelliérain aux luttes menées par la société civile russe anti-gu
 erre et aux œuvres d’artistes engagés contre le régime de Vladimir Po
 utine.\nAlexeï Navalny était bien plus qu’une figure de l’opposition
  russe : il incarnait l’espoir d’une Russie libre. Symbole de courage 
 face à la corruption et à l’arbitraire\, il a inspiré des millions de
  Russes à refuser de se résigner\, malgré les risques immenses. Son com
 bat\, mené au prix de sa vie\, reste un phare pour celles et ceux qui\, e
 n Russie comme en exil\, continuent de résister à la dictature\, à la c
 ensure et à la répression. Aujourd’hui\, la Russie compte plus de 5 00
 0 prisonniers politiques\, tandis que l’État renforce chaque jour son 
 étau sur les libertés fondamentales. Dans ce contexte\, Russie-Libertés
 \, association de défense des droits humains\, et les initiatives partena
 ires agissent comme les porte-voix de la société civile russe en exil. 
 \nNotre mission : soutenir l’Ukraine et celles et ceux qui\, malgré l
 ’isolement et la peur\, perpétuent la lutte pour une Russie démocratiq
 ue et pacifique.\nUn programme riche et varié d'expositions\, projections
 \, rencontres et hommages ponctuent ce cycle\, avec pour fil conducteur la
  résistance russe sous toutes ses formes : https://russie-libertes.org/20
 26-04-21-resistances-russes-montpellier/
GEO:43.6107184;3.8802863
LOCATION:27 Boulevard Sarrail 34000 Montpellier - FR
ORGANIZER:Association Russie-Libertés
END:VEVENT
END:VCALENDAR
