BEGIN:VCALENDAR
VERSION:2.0
CALSCALE:GREGORIAN
METHOD:PUBLISH
BEGIN:VEVENT
SUMMARY:Book Club Juin 2026
DTSTART:20260612T163000Z
DTSTAMP:20260422T135302Z
CATEGORIES:
DESCRIPTION:\n	Club de lecture dédié aux romans adultes. Spécial Vacanc
 es".\n\n	 \n\n	 \n
LOCATION:51 avenue Georges Pompidou 29490 GUIPAVAS - FR
ORGANIZER:Médiathèque Awena
END:VEVENT
END:VCALENDAR
