BEGIN:VCALENDAR
VERSION:2.0
CALSCALE:GREGORIAN
METHOD:PUBLISH
BEGIN:VEVENT
SUMMARY:C'est de la boum bébé ! 2026
DTSTART:20260606T090000Z
DTSTAMP:20260422T135247Z
CATEGORIES:
DESCRIPTION:\n	Par la compagnie Fario.\n\n	 \n\n	C’est une vraie boum p
 our les petits\, ambiance boule à facettes\, machine à bulles et comptin
 es traditionnelles jouées en live avec des synthétiseurs et musiques él
 ectro.\n\n	 \n\n	Un spectacle réservé aux abonnés de l'Awena et du pas
 s'média.\n\nPour les enfants de 1 à 4 ans (L'Awena se réserve de le dro
 it de demander une pièce d'identité et de refuser l'entrée en cas de no
 n respect des âges)\n\n	Vous et/ou votre enfant devez être abonné à la
  médiathèque Awena ou au Pass'média. La carte d'abonné vous sera deman
 dée à l'entrée.\n
LOCATION:51 avenue Georges Pompidou 29490 Guipavas - FR
ORGANIZER:Médiathèque Awena
END:VEVENT
END:VCALENDAR
