BEGIN:VCALENDAR
VERSION:2.0
CALSCALE:GREGORIAN
METHOD:PUBLISH
BEGIN:VEVENT
SUMMARY:Atelier Makey-Makey
DTSTART:20260530T090000Z
DTEND:20260530T130000Z
DTSTAMP:20260422T135011Z
CATEGORIES:
DESCRIPTION:\n	Atelier réservé aux abonnés de l'Awena et du pass'média
 .\n\nDe 8 à 11  ans (L'Awena se réserve de le droit de demander une pi
 èce d'identité et de refuser l'entrée en cas de non respect des âges)\
 n\n	Vous et/ou votre enfant devez être abonné à la médiathèque Awena 
 ou au Pass'média. La carte d'abonné vous sera demandée à l'entrée.\n
LOCATION:51 avenue Georges Pompidou 29490 Guipavas - FR
ORGANIZER:Médiathèque Awena
END:VEVENT
END:VCALENDAR
