BEGIN:VCALENDAR
VERSION:2.0
CALSCALE:GREGORIAN
METHOD:PUBLISH
BEGIN:VEVENT
SUMMARY:"Les Chansons de secours" par Grand Môme 
DTSTART:20260523T083000Z
DTEND:20260523T130000Z
DTSTAMP:20260422T135429Z
CATEGORIES:
DESCRIPTION:\nRéservé aux abonnés de l'Awena et du pass'média.\n\nDe 4
  à 10 ans  (L'Awena se réserve de le droit de demander une pièce d'ide
 ntité et de refuser l'entrée en cas de non respect des âges).\n\n	Vous 
 et/ou votre enfant devez être abonné à la médiathèque Awena ou au Pas
 s'média. La carte d'abonné vous sera demandée à l'entrée.\n
LOCATION:51 avenue Georges Pompidou 29490 GUIPAVAS - FR
ORGANIZER:Médiathèque Awena
END:VEVENT
END:VCALENDAR
