BEGIN:VCALENDAR
VERSION:2.0
CALSCALE:GREGORIAN
METHOD:PUBLISH
BEGIN:VEVENT
SUMMARY:LITTLE FESTIVAL OFF - HARD EDITION
DTSTART:20260911T190000Z
DTSTAMP:20260425T143229Z
CATEGORIES:
DESCRIPTION:Le 11 septembre\, le Little passe en mode Hard Edition.\n2000 
 personnes sont attendues au Tube pour une soirée à part\, hors format\, 
 mais toujours 100% Little dans l’énergie\, avec cette même envie de fa
 ire vibrer la côte autrement.\nPour ouvrir cette nouvelle parenthèse\, o
 n accueillera Billx\, figure majeure de la scène hard française\, et Hys
 ta\, artiste passée par quelques-unes des plus grosses scènes du genre\,
  de Tomorrowland à Defqon.1\, en passant par Dominator et Masters of Hard
 core.\nÀ leurs côtés\, le public retrouvera aussi le crew Karnage Recor
 ds\, venu de Toulouse pour faire monter encore un peu plus la pression.\nE
 n ouverture\, place à Eneris\, pépite locale que nous sommes fiers de me
 ttre en avant.\n
GEO:43.6966139;-1.436645
LOCATION:Avenue des Arènes 40510 Seignosse - FR
ORGANIZER:DFLG PRODUCTION
END:VEVENT
END:VCALENDAR
