BEGIN:VCALENDAR
VERSION:2.0
CALSCALE:GREGORIAN
METHOD:PUBLISH
BEGIN:VEVENT
SUMMARY:Inscription agora - Iscrizione agora Forest Bathing
DTSTART:20260518T070000Z
DTEND:20260518T140000Z
DTSTAMP:20260425T155928Z
CATEGORIES:
DESCRIPTION:
LOCATION:Chemin de la Bouilla 83130 La Garde - FR
ORGANIZER:Chambre de Commerce Italienne pour la France de Marseille
END:VEVENT
END:VCALENDAR
