BEGIN:VCALENDAR
VERSION:2.0
CALSCALE:GREGORIAN
METHOD:PUBLISH
BEGIN:VEVENT
SUMMARY:Les Droits de l'Homme (public)
DTSTART:20260429T160000Z
DTEND:20260429T170000Z
DTSTAMP:20260421T134640Z
CATEGORIES:
DESCRIPTION:\n	Sur scène\, à sa table à dessiner\, Aline malaxe les mot
 s et les idées pour illustrer l’article 13 de la Déclaration des Droit
 s de l’homme. « Toute personne a le droit de circuler librement et de c
 hoisir sa résidence à l’intérieur d’un État. » Peu à peu\, avec 
 la complicité de Paul\, le spectateur entre dans son imagination d’illu
 stratrice et sa réflexion sur le sens de chacun des articles  : une f
 éerie de mots\, de couleurs\, de chants et de rencontres… Leur jeu expl
 ore un texte qui instaure les droits pour inventer le vivre ensemble d’a
 ujourd’hui et de demain\, à travers les couleurs et les symboles. La Co
 mpagnie Petit Théâtre Pilat\, dans le cadre de son partenariat avec le C
 onservatoire\, accompagne et valorise le travail des classes de formation 
 musicale d'Anaïs Poingt et du groupe Chorale Kids dirigé par Emmanuelle 
 Duvillard. Aux côtés des artistes professionnels de la compagnie\, les e
 nfants embarquent dans l’aventure des Droits de l’Homme\, ou comment m
 ettre en musique les droits fondamentaux.\n
LOCATION:Espace Saint-Germain\, 30 Avenue Général Leclerc 38200 VIENNE -
  FR
ORGANIZER:Conservatoire Musique & Danse de Vienne
END:VEVENT
END:VCALENDAR
