BEGIN:VCALENDAR
VERSION:2.0
CALSCALE:GREGORIAN
METHOD:PUBLISH
BEGIN:VEVENT
SUMMARY:Matières en dialogue - Appareil Architecture
DTSTART:20260501T200000Z
DTSTAMP:20260424T000119Z
CATEGORIES:
DESCRIPTION:Appareil Architecture vous invite à un 5 à 7 explorant la re
 ncontre entre design\, photographie et art floral\, trois pratiques compl
 émentaires qui façonnent notre manière de vivre et d’occuper les espa
 ces. Pensé comme une mise en scène\, l’événement propose une réflex
 ion sensible sur la façon dont objets\, matières et compositions contrib
 uent à l’expérience d’un lieu. \n \nAinsi\, au cœur de la soirée
 \, une installation vivante prend forme : Lavigne\, Fleuriste de Quartier\
 , ouvre le dispositif avec une intervention in situ sur le mobilier. En r
 ésonance\, une exposition photographique dialogue avec une curation de va
 ses par Nancy Guignard. De plus\, le design graphique de l’événement\,
  réalisé par la firme Nouvelle administration\, participe à cette mise 
 en scène.\n \nDans une volonté de prolonger l’expérience tout en lim
 itant le gaspillage\, les visiteurs sont invités à repartir avec une fle
 ur\, inscrivant ainsi le projet dans une approche sensible et circulaire q
 ui prolonge ainsi l’expérience au-delà du lieu.
GEO:45.5391536;-73.5847402
LOCATION:5520 Rue Chabot H2H 2S7 Montréal - CA
ORGANIZER:Appareil atelier
END:VEVENT
END:VCALENDAR
