BEGIN:VCALENDAR
VERSION:2.0
CALSCALE:GREGORIAN
METHOD:PUBLISH
BEGIN:VEVENT
SUMMARY:L'apéro des Frenchy\, à Saint-Jean-Cap-Ferrat
DTSTART:20260621T160000Z
DTEND:20260621T213000Z
DTSTAMP:20260421T161552Z
CATEGORIES:
DESCRIPTION:\n\n\n\n\n\n\n\n								Coucou les Frenchy\,\n\n								Pour c
 élébrer la fête de la musique\, nous revenons à Saint-Jean-Cap-Ferrat 
 au magnifique Théâtre sur la Mer !\n\n								Rendez-vous le dimanche 21
  juin pour un apéro géant dès 18h face à la Mer ! \n\n								Comme t
 oujours le concept est simple : de quoi manger sur le pouce\, du bon vin\,
  des copains\, des copines et bien sûr le meilleur de la musique françai
 se ! \n\n								De Dalida à Gims\, de Claude François à K-maro\, en p
 assant par Céline Dion et Alizée\, notre DJ vous distillera le meilleur 
 de la chanson française des années 70 à aujourd'hui ! \n\n								Dres
 s code : Marinière\n								___\n								 \n\n								Tarif spécial Fê
 te de la musique à 6\,00 €.\n								Mineurs accompagnés acceptés exc
 eptionnellement.\n								Gratuit pour les -12 ans\n\n Restauration : 4 p
 restataires locaux pour vous régaler !\n\n Suivez-nous sur instagram : @
 aperodesfrenchy\nwww.instagram.com/aperodesfrenchy\n\n Animaux de compagn
 ie non autorisés \n\n Evénement filmé et photographié.\n\n Théâtr
 e sur la mer\n								4 avenue Denis Semeria\n								06230 Saint Jean Cap
  Ferrat\n\n\n\n\n\n\n\n\n	 \n
LOCATION:4 avenue Denis Semaria 06230 Saint-Jean-Cap-Ferrat - FR
ORGANIZER:CMEA Consulting SAS
END:VEVENT
END:VCALENDAR
