BEGIN:VCALENDAR
VERSION:2.0
CALSCALE:GREGORIAN
METHOD:PUBLISH
BEGIN:VEVENT
SUMMARY:Cercle - Et un jour l'oiseau s'envole
DTSTART:20260520T063000Z
DTEND:20260603T063000Z
DTSTAMP:20260423T140406Z
CATEGORIES:
DESCRIPTION:\nEt un jour\, l’oiseau s’envole…\n\n	Il y a\, dans la v
 ie d’une femme\, des moments qui marquent : la naissance d’un enfant\,
  sa première bougie\, les rentrées scolaires\, le passage vers l’adole
 scence et vers l’autonomie. Et\, un jour\, l’enfant s’apprête à qu
 itter le nid.\n\n	Se mêlent alors des sentiments de fierté\, de joie\, d
 e bonheur\, mais aussi de tristesse\, de vide\, de manque et de déchireme
 nt.\n\n	Face à ces ados/jeunes adultes qui s’éloignent et à ce nid qu
 i se vide\, on se retrouve souvent seule face à ses émotions\, à ses ma
 nques\, à ses questions\, face à sa détresse de maman.\n\n	• Où dép
 oser mes émotions si fortes et contradictoires ?\n	• Comment me constru
 ire en dehors de mon rôle de maman ?\n	• Comment prendre soin de moi ?\
 n	• Que faire de mes peurs ?\n\n	Ces questions vous parlent ?\n\n	Je vou
 s propose un parcours de 3 cercles d’apprentissage et de lien\, en ligne
  :\n\n\n		Le mercredi 20 mai de 8h30 à 10h00\n\n		Le mercredi 27 mai de 8
 h30 à 10h00\n\n		Le mercredi 3 juin de 8h30 à 10h00\n\n\n	Ce que ce cerc
 le va vous apporter :\n\n\n		Une mise en lien et du partage avec d’autre
 s femmes qui traversent la même période que vous\n\n		Du temps pour mieu
 x comprendre et accepter ce que vous traversez\n\n		Des exercices entre le
 s sessions\n\n		Un cadre sécurisant et bienveillant\n\n\n	Ce parcours com
 prend 3 sessions en groupe avec :\n\n\n		Des apprentissages\n\n		Du partag
 e\n\n		Des exercices/temps de réflexion entre les sessions\n\n\n	Max. 8 p
 articipantes\n	Prix : 125 € (+ frais de paiement en ligne) \n\n\n	 \n\
 n	 \n
LOCATION:   - BE
ORGANIZER:Sandrine Corbiau 
END:VEVENT
END:VCALENDAR
