BEGIN:VCALENDAR
VERSION:2.0
CALSCALE:GREGORIAN
METHOD:PUBLISH
BEGIN:VEVENT
SUMMARY:Estelle Faye
DTSTART:20260509T123000Z
DTSTAMP:20260423T070145Z
CATEGORIES:
DESCRIPTION:
GEO:48.0095093;0.1978952
LOCATION:10 Place Saint Michel 72100 Le Mans - FR
END:VEVENT
END:VCALENDAR
