BEGIN:VCALENDAR
VERSION:2.0
CALSCALE:GREGORIAN
METHOD:PUBLISH
BEGIN:VEVENT
SUMMARY:Piscine Discovery - 25 au 29 mai 2026
DTSTART:20260525T080000Z
DTEND:20260529T150000Z
DTSTAMP:20260421T122323Z
CATEGORIES:
DESCRIPTION:Nous sommes ravis d'organiser notre nouvelle édition de Pisci
 ne Discovery accessible à tous à partir de 18 ans.\n \nVous êtes curie
 ux de savoir si le numérique pourrait vous plaire ? vous êtes en recherc
 he d'emploi\, salarié qui réfléchit à une reconversion professionnelle
 \, ou jeune qui souhaite s'orienter après le bac vers des métiers d'aven
 ir et porteurs ?\n \nLes objectifs de cette semaine : découvrir le numé
 rique et ses métiers (développement mobile / web / applicatif / logiciel
 \, cybersécurité\, DATA\, réseaux\, IA)\, découvrir la méthode pédag
 ogique chez 42\, et s'entrainer pour participer aux sélections de cet ét
 é\n \nN’attendez plus et inscrivez-vous pour notre semaine de Piscine 
 Discovery du 25 au 29 mai 2026 de 10h à 17h !\nAu programme :\n\nVisite e
 t découverte du campus\nÉchanges avec les Studs\nEntrainement aux tests 
 de logique et mémoire (phase 1 de la sélection de l'école)\nImmersion d
 ans la méthode pédagogique innovante du pear to pear\nInitialisation du 
 développement web\nDécouverte des spécialités du cursus et des métier
 s du numérique auxquelles elles préparent\n\n \nEntrée 100% gratuite\,
  ouverte à toutes les personnes ayant au moins 18 ans.Pas de limite max d
 'âge.
GEO:49.4892608;0.1252311
LOCATION:20 Quai Frissard 76600 Le Havre - FR
ORGANIZER:42 Le Havre
END:VEVENT
END:VCALENDAR
