BEGIN:VCALENDAR
VERSION:2.0
CALSCALE:GREGORIAN
METHOD:PUBLISH
BEGIN:VEVENT
SUMMARY:Cercle de Pardon Paris 12/07
DTSTART:20260712T140000Z
DTEND:20260712T160000Z
DTSTAMP:20260425T155928Z
CATEGORIES:
DESCRIPTION:\nLe Cercle de Pardon est un atelier en petit groupe à la gu
 érison des blessures du coeur\, comme une belle douche libératrice émot
 ionnelle.Il n'y a besoin d'aucune expérience ou pré-requis\, que ce soit
  ton 1er ou ton 10ème Cercle\, tout le monde est bienvenu.\n\n	 \n\nVeux
 -tu prendre 2h suspendues pour toi ? \n\n	As-tu envie de retrouver la pos
 sibilité et la liberté d'aimer ?\n	Cherches-tu à relâcher le passé ?
  \n\n	Alors viens vivre en personne le rituel des Cercles de Pardon.\n	Je
  te donne rendez-vous le Dimanche 12/07 de 16h à 18h dans le 11ème arron
 dissement de Paris (Quartier Belleville/Parmentier) pour vivre cette expé
 rience hors du commun.\n\n	Nous serons en petit comité\, avec seulement 1
 0 places. Sois bien certain.e d'être là car ta présence sera cruciale p
 our que l'atelier ait bien lieu :)\n\n	Le Cercle de Pardon est un rituel d
 édié à la guérison des blessures du coeur\, comme une belle douche lib
 ératrice émotionnelle.\n\n	Il n'y a besoin d'aucune expérience ou pré-
 requis\, que ce soit ton 1er ou ton 10ème Cercle\, tout le monde est bien
 venu.\n\n	Ce n'est pas un Cercle de paroles et tu ne partageras que ce que
  tu souhaites exprimer.\nJe me réjouis de t'accueillir lors du Cercle.\n\
 n	Tu peux m'écrire sur mon mail melissarivet@gmail.com pour toute questio
 n.\n\n	 \n\n	Merci de prendre note :\n\n\n\n			Suite à trop de désistem
 ents non justifiés qui compromettent la bonne tenue des cercles\, je n'ef
 fectue aucun remboursement ou report si tu annules ta participation avant 
 le Cercle. Tu peux choisir de prendre l'option assurance billet à l'achat
 .\n\n\n\n	----------------------------------------------------------------
 -------------------------------------------------\n\n	Accessible à toutes
  et tous\, le Cercle de Pardon est un rituel qui a été créé afin d'off
 rir la possibilité de guérir les blessures du coeur. Frustrations\, vexa
 tions\, disputes\, conflits\, épreuves de vie : nos coeurs ont rencontré
  des occasions de se fermer au cours de notre existence.\n	 \n\n	Rattach
 é à aucune religion\, le Cercle de Pardon est un temps qui vous permet d
 e faire oeuvre de pardon envers autrui et vous-même et de reconquérir vo
 tre liberté d'aimer.\n	 \n\n	Créés en 2012 par Olivier Clerc\, les Cer
 cles de Pardon proviennent d'un enseignement de Don Miguel Ruiz\, l'auteur
  du best-seller international "Les 4 accords toltèques" transmis à Olivi
 er lors d'une retraite.\n\n	Cette manière nouvelle d’aborder le pardon 
 a déjà profité à quelques milliers de personnes\, dans près d’une d
 izaine de pays.\n
LOCATION: 75011 Paris - FR
ORGANIZER:Melissa Rivet
END:VEVENT
END:VCALENDAR
