BEGIN:VCALENDAR
VERSION:2.0
CALSCALE:GREGORIAN
METHOD:PUBLISH
BEGIN:VEVENT
SUMMARY:Vanessa Wagner | Récital de piano
DTSTART:20260729T184500Z
DTEND:20260729T203000Z
DTSTAMP:20260425T154144Z
CATEGORIES:
DESCRIPTION:Sakamoto\, Eno\, Monk\, GlassRécital de piano de Vanessa Wagn
 erParmi les oeuvres de l'exposition Variations rouges d'Yves Zurstrassen 
 au Musée de Salagon\nLieu de l’événement : Église de Salagon
GEO:43.934307;5.760808
LOCATION:Le Prieuré 04300 Mane - FR
ORGANIZER:Estivales et Paysages
END:VEVENT
END:VCALENDAR
