BEGIN:VCALENDAR
VERSION:2.0
CALSCALE:GREGORIAN
METHOD:PUBLISH
BEGIN:VEVENT
SUMMARY:Bart Van Loo\, Béatrice Delvaux & Sigrid Bousset |  Masterclass
DTSTART:20260729T090000Z
DTEND:20260729T103000Z
DTSTAMP:20260425T154312Z
CATEGORIES:
DESCRIPTION:Masterclassavec Bart van Loo\, écrivain & homme de scèneanim
 é par Béatrice Delvaux & Sigrid Bousset\nPoint de rendez-vous : Bivouac\
 , point d’acceuil des Estivales. Lieu de l’événement : Confirmé su
 r place - Bivouac ou Amphithéâtre.
LOCATION:Les Davids\, route de banon 84750 Viens - FR
ORGANIZER:Estivales et Paysages
END:VEVENT
END:VCALENDAR
