BEGIN:VCALENDAR
VERSION:2.0
CALSCALE:GREGORIAN
METHOD:PUBLISH
BEGIN:VEVENT
SUMMARY:Universités d'été 2026 - Forum Utilisateurs Mitel
DTSTART:20260605T061500Z
DTEND:20260605T150000Z
DTSTAMP:20260423T150123Z
CATEGORIES:
DESCRIPTION:\n\n		Chers membres du FUM\,\n\n		 \n\n		Nous avons le plaisi
 r de vous convier aux Universités d'été 2026 qui se dérouleront au Pal
 ais du Luxembourg\, sous le parrainage de Madame Isabelle Florennes\, Sé
 natrice des Hauts de Seine\,  le vendredi 5 juin 2026.\n\n\n		 Program
 me\n\n		8h15              : Accueil des participants\n\n\n	9h00-9h
 30     : Actualités du Forum et de Mitel\n\n	9h30-10h15   : Roadma
 p et cycle de vie des solutions MiVoice\n\n	10h15-11h00 : Cybersécurit
 é et bonnes pratiques \n\n\n11h00-11h15  : Pause café\n\n\n	11h15-11h4
 5 : Les vecteurs contractuels\n\n	11h45-12h15 : Le Comité exécutif Mitel
 \n\n\n12h30-14h00  : cocktail déjeunatoire\n\n	14h00-15h00  : Cas clien
 t : le Palais du Luxembourg\n\n	15h15-16h30  : Visite guidée du Palais\n
 \n	 \n\n16h30-17h00  : pause gourmande\n\n	 \n\nInscription \nSeules l
 es personnes inscrites pourront participer à cet évènement.\n\n	La list
 e des participants sera définitive le vendredi 29/05\, plus aucune inscri
 ption ne sera acceptée passé cette date.\n\n	 \n\nAccueil\n\n	Accueil a
 u 15ter rue de Vaugirard\, Paris\, entre 8h15 et 9h00\n\n	Présentation d'
 une pièce d'identité en cours de validité obligatoire (carte d'identit
 é\, passeport\, titre de séjour). Attention\, le permis de conduire n'e
 st pas accepté.\n\n	 \n\nStationnement\n\n	Pas de stationnement sur site
 .\n\n\n		Parcs publics proches du Palais du Luxembourg : place Saint-Sulpi
 ce\, Marché Saint-Germain\, rue de l’École de Médecine\, rue Soufflot
 \n\n		Transports en commun :\n\n		- RER : Luxembourg\,\n\n		- Métro : Od
 éon\, Mabillon\, Saint-Sulpice\,\n\n		- Bus : 58\, 84 et 89.\n\n		- Stati
 on Vélib’ n°6017\, 34 rue de Condé\n\n\n	 \n\n	Bien à vous\,\n\n	 
 \n
LOCATION:15ter rue de Vaugirard 75006 Paris - FR
ORGANIZER:FUM'ASSO
END:VEVENT
END:VCALENDAR
