BEGIN:VCALENDAR
VERSION:2.0
CALSCALE:GREGORIAN
METHOD:PUBLISH
BEGIN:VEVENT
SUMMARY:Grafikas & Vinciane Despret | Atelier Jeune Public - Xylogravure
DTSTART:20260729T123000Z
DTEND:20260729T143000Z
DTSTAMP:20260425T154144Z
CATEGORIES:
DESCRIPTION:Gravure sur boisAtelier de XYLOGRAVURE - de 8 à 12 ansanimé 
 par Grafikas & Vinciane Despret\nPoint de rendez-vous : Le Fournil du Doma
 ines Les DavidsLieu de l’événement : Atelier de Poterie
LOCATION:Les Davids\, route de banon 84750 Viens - FR
ORGANIZER:Estivales et Paysages
END:VEVENT
END:VCALENDAR
