BEGIN:VCALENDAR
VERSION:2.0
CALSCALE:GREGORIAN
METHOD:PUBLISH
BEGIN:VEVENT
SUMMARY:Compagnie Massimo Furlan & Vinciane Despret | Théâtre
DTSTART:20260728T184500Z
DTEND:20260728T203000Z
DTSTAMP:20260425T154238Z
CATEGORIES:
DESCRIPTION:Meat me in ParadiseThéâtre Performance de la Cie Massimo Fur
 lande Massimo Furlan et Claire de RibaupierreAvec la participation de Vinc
 iane Despret\, Pierre-Olivier Dittmar\nParking: Fournil des DavidsLieu de 
 l'évènement: Grand Atelier
LOCATION:Les Davids\, route de banon 84750 Viens - FR
ORGANIZER:Estivales et Paysages
END:VEVENT
END:VCALENDAR
