BEGIN:VCALENDAR
VERSION:2.0
CALSCALE:GREGORIAN
METHOD:PUBLISH
BEGIN:VEVENT
SUMMARY:Pierre-Olivier Dittmar & Vinciane Despret | Apéro-rencontre
DTSTART:20260728T160000Z
DTEND:20260728T173000Z
DTSTAMP:20260425T154312Z
CATEGORIES:
DESCRIPTION:L'invention de l'animalUn apéro avec Pierre-Olivier Dittmaran
 imé par Vinciane Despret\nPoint de rendez-vous : Bivouac\, point d’acce
 uil des Estivales. Lieu de l’événement : Confirmé sur place - Bivoua
 c ou Amphithéâtre.
LOCATION:Les Davids\, route de banon 84750 Viens - FR
ORGANIZER:Estivales et Paysages
END:VEVENT
END:VCALENDAR
