BEGIN:VCALENDAR
VERSION:2.0
CALSCALE:GREGORIAN
METHOD:PUBLISH
BEGIN:VEVENT
SUMMARY:Tournoi de golf 2026 - APCHQ Mauricie
DTSTART:20260821T123000Z
DTEND:20260822T010000Z
DTSTAMP:20260421T175603Z
CATEGORIES:
DESCRIPTION:\n\n\nLes inscriptions pour le tournoi de golf de l’APCHQ Ma
 uricie–Lanaudière sont ouvertes !Pour vous inscrire\, rien de plus simp
 le : remplissez le formulaire ci-dessous. À noter que nous vous demandons
  de réserver vos billets par paire minimalement (ex. 2 / 4 / 6 / 8) afin
  de faciliter le jumelage pour créer les quatuors. \n\n\n\n\n\n\n \nHor
 aire de l'événement :\n- Dès 8h30: accueil\n- Dès 9h: brunch\n- 11h: 
 départ\n- 17h30: souper festif et tirage des cadeaux\n \nEn plus de pas
 ser une magnifique journée sur le parcours\, vous contribuerez à une cau
 se importante : cette année\, nous soutenons le Centre le Havre\, un orga
 nisme oeuvrant en itinérance et visant à favoriser la santé et le bien-
 être des personnes en situation de vulnérabilité ou de rupture sociale.
  \n \nPour toute question\, n’hésitez pas à contacter Marianne Dorva
 l au 819 376-5634 ou par courriel à mdorval@apchq-ml.com. \n \nPour con
 sulter ou réserver un partenariat\, consultez le plan de visibilité. \n
  \nAu plaisir de vous y voir!\n \n**S'il ne reste plus de place pour not
 re tournoi\, veuillez vous inscrire à la liste d'attente ICI.\n\n\n
LOCATION:8200 boulevard des Forges G8Y 4W2 Trois-Rivières - CA
ORGANIZER:APCHQ - Région Mauricie-Lanaudière Inc.
END:VEVENT
END:VCALENDAR
