BEGIN:VCALENDAR
VERSION:2.0
CALSCALE:GREGORIAN
METHOD:PUBLISH
BEGIN:VEVENT
SUMMARY:Aux frontières du genre : renouveler les imaginaires
DTSTART:20260513T173000Z
DTEND:20260513T200000Z
DTSTAMP:20260420T183620Z
CATEGORIES:
DESCRIPTION:\n\n__________________________________________________________
 ________________________________________\n\n[13 mai - 19h30]\n\n__________
 _________________________________________________________________________\
 n\n		 \n\nAux frontières du genre : renouveler les imaginaires\n\n\nBelg
 ian Theory #3\n\n	 \n\nAudacieuses\, libres ou inattendues\, les créatio
 ns d’artistes et auteur·rices trans révèlent une quête d’imaginair
 e et de liberté quelle que soit leur forme. En s’adossant au réel pour
  incarner la complexité des genres\, elles célèbrent\, sans cacher les 
 obstacles existants\, le foisonnement des possibles. Les fenêtres qu’ou
 vrent les artistes trans bousculent-elles\, au-delà des codes\, les imagi
 naires ?\n\nAvec : Juliet Drouar\, Jul Maroh\, Lylyberth Merle\n\nModér
 ation : Romarin Arnaud\n
LOCATION:46 Rue Quincampoix 75004 Paris - FR
ORGANIZER:Centre Wallonie-Bruxelles I Paris
END:VEVENT
END:VCALENDAR
