BEGIN:VCALENDAR
VERSION:2.0
CALSCALE:GREGORIAN
METHOD:PUBLISH
BEGIN:VEVENT
SUMMARY:Coraline Soulier |  Atelier d'écriture
DTSTART:20260728T133000Z
DTEND:20260728T160000Z
DTSTAMP:20260425T155534Z
CATEGORIES:
DESCRIPTION:Le plaisir d'écrire ensembleAtelier d'écriture - dès 9 ans 
 & adultesanimé par Coraline Soulier\nPoint de rendez-vous : Le Fournil de
 s DavidsLieu de l’événement : Mas des Davids
LOCATION:Les Davids\, route de banon 84750 Viens - FR
ORGANIZER:Estivales et Paysages
END:VEVENT
END:VCALENDAR
