BEGIN:VCALENDAR
VERSION:2.0
CALSCALE:GREGORIAN
METHOD:PUBLISH
BEGIN:VEVENT
SUMMARY:Traduire le Poème / Les éditions Tétras Lyre
DTSTART:20260527T180000Z
DTEND:20260527T200000Z
DTSTAMP:20260420T183413Z
CATEGORIES:
DESCRIPTION:\n\n__________________________________________________________
 ________________________________________\n\n[27 mai - 20h]\n\n____________
 _______________________________________________________________________\n\
 n		 \n\nTraduire le Poème / Les éditions Tétras Lyre\n\n\nPériphérie
  du 43eme Marché de la Poésie\n\n	 \n\nUne soirée autour de la maison 
 d’édition et du travail de traducteur de Jan Mysjkin\n\nLes éditions T
 étras Lyre ont été fondées en 1988 par Marc Imberechts. Pendant vingt 
 ans le catalogue associe recherche des arts plastiques et qualité du text
 e poétique\, avec une édition artisanale exigeante. En 2010\, le fondate
 ur confie le projet à Maxime Coton qui lui injecte un second souffle. Dè
 s 2014\, Primaëlle Vertenoeil passe à la tête de la maison et lui perme
 t de pérenniser son activité. En 2018\, Tétras Lyre fête ses 30 ans d
 ’existence. En 2020\, les éditions sont cédées à Audrey Voos.\n\nAve
 c Audrey Voos\, Hélène Gelèns\, Inge Braeckman\, Jan Baetens\, Jan H. M
 ysjkin\n
LOCATION:46 Rue Quincampoix 75004 Paris - FR
ORGANIZER:Centre Wallonie-Bruxelles I Paris
END:VEVENT
END:VCALENDAR
