BEGIN:VCALENDAR
VERSION:2.0
CALSCALE:GREGORIAN
METHOD:PUBLISH
BEGIN:VEVENT
SUMMARY:Éliane Le Roux & Christine Mawet | Atelier Jeune Public - Sérigr
 aphie
DTSTART:20260728T123000Z
DTEND:20260728T143000Z
DTSTAMP:20260425T154317Z
CATEGORIES:
DESCRIPTION:Hybridation faune et floreAtelier de SÉRIGRAPHIE* - dès 8 an
 spar les artistes Éliane Le Roux & Christine Mawet\nPoint de rendez-vous 
 : Le Fournil du Domaines Les DavidsLieu de l’événement : Atelier de P
 oterie\n \n* La sérigraphie est un procédé par lequel on passe de l'en
 cre à travers un écran spécial pour laisser apparaître de jolis dessin
 s colorés.
GEO:43.940732;5.5640241
LOCATION:Les Davids\, route de banon 84750 Viens - FR
ORGANIZER:Estivales et Paysages
END:VEVENT
END:VCALENDAR
