BEGIN:VCALENDAR
VERSION:2.0
CALSCALE:GREGORIAN
METHOD:PUBLISH
BEGIN:VEVENT
SUMMARY:Charles Dantzig & Béatrice Delvaux | Rencontre
DTSTART:20260728T090000Z
DTEND:20260728T103000Z
DTSTAMP:20260425T154239Z
CATEGORIES:
DESCRIPTION:Inventaire de la Basse PériodeConversation avec Charles Dantz
 ig\, écrivain et éditeur\, et Béatrice Delvaux \nParking des Estivales
 Point de rendez-vous : Bivouac\, point d’acceuil des Estivales. Lieu de
  l’événement : Confirmé sur place - Bivouac ou Amphithéâtre.
GEO:43.936637;5.561774
LOCATION:Les Davids\, route de banon 84750 Viens - FR
ORGANIZER:Estivales et Paysages
END:VEVENT
END:VCALENDAR
