BEGIN:VCALENDAR
VERSION:2.0
CALSCALE:GREGORIAN
METHOD:PUBLISH
BEGIN:VEVENT
SUMMARY:Avant-première documentaire "Les Audacieux.ses" à Lyon
DTSTART:20260512T170000Z
DTSTAMP:20260424T180032Z
CATEGORIES:
DESCRIPTION:François\, Renée\, Gisèle\, Sylvain\, seniors et LGBT marqu
 és par des décennies de discriminations et de renoncements\, refusent d
 e vieillir dans l’ombre. Ils se lancent dans une aventure audacieuse : 
 créer un lieu de vie où ils pourront vieillir ensemble\, libres et sans 
 avoir à se cacher.
LOCATION:1 Place Antonin Jutard 69003 Lyon - FR
ORGANIZER:ICI Auvergne-Rhône-Alpes
END:VEVENT
END:VCALENDAR
