BEGIN:VCALENDAR
VERSION:2.0
CALSCALE:GREGORIAN
METHOD:PUBLISH
BEGIN:VEVENT
SUMMARY:Raphaël Imbert & Martin Legros | Ballade musicale
DTSTART:20260728T063000Z
DTEND:20260728T083000Z
DTSTAMP:20260425T152713Z
CATEGORIES:
DESCRIPTION:Vagabondage musical et philosophique à travers le domaine\, e
 t petit déjeuner*avec Raphaël Impert & Martin Legros\nParking des Estiva
 lesPoint de rendez-vous : Bivouac\, point d'acceuil des Estivales du Haut
 -Calavon\n*Viennoiserie et boisson chaude comprises
GEO:43.936637;5.561774
LOCATION:Les Davids\, Route de Banon 84750 Viens - FR
ORGANIZER:Estivales et Paysages
END:VEVENT
END:VCALENDAR
