BEGIN:VCALENDAR
VERSION:2.0
CALSCALE:GREGORIAN
METHOD:PUBLISH
BEGIN:VEVENT
SUMMARY:Massimo Furlan\, Claire de Ribeaupierre & Vinciane Despret | Renco
 ntre
DTSTART:20260727T184500Z
DTEND:20260727T203000Z
DTSTAMP:20260425T155922Z
CATEGORIES:
DESCRIPTION:Massimo Furlan\, performeur suisse\, et la dramaturge Claire d
 e Ribeaupierre\, en conversation avec Vinciane Despret.\nParking: Fourni
 l des DavidsLieu de l'évènement: Grand Atelier
GEO:43.936637;5.561774
LOCATION:Les Davids\, route de banon 84750 Viens - FR
ORGANIZER:Estivales et Paysages
END:VEVENT
END:VCALENDAR
