BEGIN:VCALENDAR
VERSION:2.0
CALSCALE:GREGORIAN
METHOD:PUBLISH
BEGIN:VEVENT
SUMMARY:Identification visuelle et auditive des oiseaux de l’Île de Ré
DTSTART:20260429T070000Z
DTEND:20260429T170000Z
DTSTAMP:20260420T192249Z
CATEGORIES:
DESCRIPTION:\n\n		Venez découvrir les oiseaux de l’Île de Ré à trave
 rs une initiation mêlant observation et écoute.\n\n		Une première parti
 e en salle permettra de se familiariser avec les espèces communes et loca
 les les plus courantes et leurs chants\, à l’aide de quiz.\n\n		Une sec
 onde partie sur le terrain\, dans les marais du Fier d’Ars\, offrira l
 ’occasion de mettre en pratique ces connaissances en conditions réelles
 \, en apprenant à observer et à reconnaître les oiseaux dans leur milie
 u.\n\n\n			Gratuit\n\n			Tout public\n\n			Sur réservation (Le lieu préc
 is vous sera communiqué lors de la réservation)\n\n\n		À prévoir : \n
 \n\n			Des jumelles\n\n			Des vêtements adaptés à la météo\n\n			Des 
 chaussures de marche\n\n			Une gourde d’eau\n\n\n		Plus d'information  
 : \n\n		Enora SIMON 06.30.71.77.96 / enora.simon@cc-iledere.fr\n\n\n	 \
 n
LOCATION:  Ars-en-Ré - FR
ORGANIZER:Cdc île de Ré
END:VEVENT
END:VCALENDAR
