BEGIN:VCALENDAR
VERSION:2.0
CALSCALE:GREGORIAN
METHOD:PUBLISH
BEGIN:VEVENT
SUMMARY:Shape - Drag Show
DTSTART:20260529T190000Z
DTSTAMP:20260421T134619Z
CATEGORIES:
DESCRIPTION:\n\nKrasna announces ‘Shape’\, an anniversary show about f
 ragments that shape us into who we are.\nTo celebrate her 29th birthday\, 
 you’re invited on 29/05 at 21:00 at The Agenda for a show divided into 3
  acts.\nEach act will feature different performers bringing their own inte
 rpretation of the themes\, with Krasna guiding you through the night.\nAct
 s and performers to be revealed soon.\n\n
GEO:50.8466758;4.3490191
LOCATION:18 Plattesteen 1000 Bruxelles - BE
ORGANIZER:All Of That Entertainment
END:VEVENT
END:VCALENDAR
