BEGIN:VCALENDAR
VERSION:2.0
CALSCALE:GREGORIAN
METHOD:PUBLISH
BEGIN:VEVENT
SUMMARY:Kasta Zurich
DTSTART:20260923T180000Z
DTSTAMP:20260424T154251Z
CATEGORIES:
DESCRIPTION:23 сентября\nКаста — с программой г
 лавных треков за 25+ лет — теми самыми пес
 нями\, которые знают наизусть.В одном кон
 церте:«Вокруг шум» · «Ревность» · «На по
 рядок выше» · «Сочиняй мечты» · «Закрыты
 й космос» · «Город дорог» · «Громче воды\
 , выше травы»Почти 2 часа живого звука\, п
 лотный контакт с залом и ощущение\, что в
 ы внутри одной истории.Все хиты. Один веч
 ер. TICKETSEarly Bird — 69 CHFRegular Ticket — 79 CHFLate ticket 
 – 89 СHF\nEXCLUSIVE PACKAGE — 200 CHF•⁠  ⁠вход в зал 
 за 10 мин. до открытия дверей •⁠  ⁠общен
 ие с Кастой после концерта в небольшой г
 руппе до 20 человек•⁠  ⁠двойной винил и 
 афиша\, подписанные группой•⁠  ⁠фото с 
 артистом \nLOUNGE & TABLES•⁠  ⁠Lounge on stage (6 pax) —
  1100 CHF (2 bottles)•⁠  ⁠Lounge on stage (8 pax) — 1500 CHF (2 b
 ottles)•⁠  ⁠Balcony lounge (5 pax) — 600 CHF (1 bottle)•⁠  
 ⁠Balcony lounge (8 pax) — 1000 CHF (2 bottles)
LOCATION:Kanzleistrasse 56 8004 Zurich - CH
ORGANIZER:Feverfriends Sàrl
END:VEVENT
END:VCALENDAR
