BEGIN:VCALENDAR
VERSION:2.0
CALSCALE:GREGORIAN
METHOD:PUBLISH
BEGIN:VEVENT
SUMMARY:Journée des harpes anciennes
DTSTART:20260620T120000Z
DTEND:20260620T163000Z
DTSTAMP:20260420T154749Z
CATEGORIES:
DESCRIPTION:\nJOURNÉE DE HARPES ANCIENNES\n\nMasterclass et conférence\n
 \nSamedi 20 Juin 2026\n\nNanja BREEDIJK\, professeur de harpes anciennes a
 u CRR de Versailles et de basse continue aux harpistes au CNSMDP.\n\nGhisl
 aine PETIT-VOLTA\, professeur de didactique de la harpe au sein du départ
 ement de pédagogie du CNSMDP.\n\nEmma PRIEUR-BLANC\, étudiante en derni
 ère année de formation au Certificat d'Aptitude de Professeur de harpe a
 u CNSMDP\n\nRéservations\n\nNiveau pour inscription aux ateliers et clas
 se de maître : au moins deuxième cycle conservatoire ou équivalent.\n\n
 Ateliers et Masterclass\, contacter Harposphere pour réserver\n	Tel : 00
  33 (0)6 23 66 56 24\n	Mail : boutique@harpebudin.com\n\nSpectateur aux M
 asterclass et conférence\n\nProgramme\n\nAvec Nanja Breedijk\n\nNiveau po
 ur inscription aux ateliers et classe de maître : au moins deuxième cyc
 le conservatoire ou équivalent.\n\n10h00-12h00 Atelier d’improvisation 
 et principes de la basse continue sur des basses obstinées\nAtelier prati
 que sur harpe à pédales ou harpe triple\, débutant.e.s en basse continu
 e bienvenu.e.s.\n\n12h00-12h30 Découverte des harpes anciennes\nDécouver
 te des harpes triple italienne\, double espagnole et harpe à simple mouve
 ment de pédales (instruments du 18ème siècle).\n\nPause déjeuner/accor
 d et mise en place\n\n14h00-17h00 Masterclass\nClasse de Maître « inter
 prétation de la musique ancienne »\, au choix sur harpe à simple ou à
  double mouvement de pédales\, avec un focus sur les ornements dans des p
 ièces pour harpe du 18ème siècle\, notamment les pièces imposées du c
 oncours « Marie-Antoinette » du 16 au 18 octobre au Conservatoire de V
 ersailles Grand Parc. (PJ Mayer\, Krumpholtz\, Nademan\, mais aussi CPE Ba
 ch\, Händel\, etc)\nCours sur harpe triple ou harpe double espagnole poss
 ible également (répertoire baroque au choix).\n\nAvec Ghislaine Petit-Vo
 lta et Emma-Prieur-Blanc\n\n17h30 Conférence\nHarpe à pédales\, le gest
 e et la méthode\, une histoire en mouvement\nLes premières méthodes de 
 harpe à pédales de 1762 à 1825\n
LOCATION:107 AVENUE DAUMESNIL 75012 Paris - FR
ORGANIZER:ASSOCIATION HARPOSPHERE
END:VEVENT
END:VCALENDAR
