BEGIN:VCALENDAR
VERSION:2.0
CALSCALE:GREGORIAN
METHOD:PUBLISH
BEGIN:VEVENT
SUMMARY:Coraline Soulier |  Atelier d'écriture
DTSTART:20260727T133000Z
DTEND:20260727T160000Z
DTSTAMP:20260425T154239Z
CATEGORIES:
DESCRIPTION:Le plaisir d'écrire ensembleAtelier d'écriture - dès 9 ans 
 & adultesanimé par Coraline Soulier\nParking: Fournil des DavidsPoint de 
 rendez-vous : Fournil des DavidsLieu de l’événement : Mas des Davids
GEO:43.940732;5.5640241
LOCATION:Les Davids\, route de banon 84750 Viens - FR
ORGANIZER:Estivales et Paysages
END:VEVENT
END:VCALENDAR
