BEGIN:VCALENDAR
VERSION:2.0
CALSCALE:GREGORIAN
METHOD:PUBLISH
BEGIN:VEVENT
SUMMARY:Projections Partagées du Mercredi 06/05/26
DTSTART:20260506T173000Z
DTEND:20260506T200000Z
DTSTAMP:20260423T180614Z
CATEGORIES:
DESCRIPTION:\nProjection Partagées du Mercredi 06/05/2026 \n\n	 \n\nAu 
 programme : \n\n\n\n« Kawa et Garo » de Émir Salem\n\n\n\n15min\n\n
 Comme tous les jours\, dans un café miteux noyé de fumée et de café re
 nversé\, deux amis : Samir\, photographe angoissé\, et Jamie\, séducteu
 r flamboyant\, tuent le temps entre cafés et cigarettes dans une ambiance
  absurde et surréaliste. \n\n	 \n\n\n\n« Belle Matière » de Indy Ch
 auvel\n\n\n\n2min20\n\nUn huis clos hypnotique dans un studio photo\, où 
 les corps se consument sous la lumière. Entre clair-obscur et silence mé
 canique\, une mannequin cherche à exister au-delà de l’image.\n\n	 \n
 \n\n\n« Lutece » de Indy Chauvel\n\n\n\n\n35min\n\nDans une ville conda
 mnée\, deux frères tiennent un bar clandestin jusqu’au retour de leur 
 frère disparu\, devenu le chef d’une mafia décidée à brûler la vill
 e pour effacer les erreurs du passé.\n\n		 \n\n		 \n\nRendez-vous à Co
 mmune Image\, 8 rue Godillot\, 93400 : fermeture des portes à 19h20. \n\
 n\n	 \n
LOCATION:8 rue Godillot 93400 Saint-Ouen-Sur-Seine - FR
ORGANIZER:Bang Culture Commune Image
END:VEVENT
END:VCALENDAR
