BEGIN:VCALENDAR
VERSION:2.0
CALSCALE:GREGORIAN
METHOD:PUBLISH
BEGIN:VEVENT
SUMMARY:Le carnaval des animaux du monde sous-marin
DTSTART:20260607T150000Z
DTEND:20260607T160000Z
DTSTAMP:20260420T155009Z
CATEGORIES:
DESCRIPTION:\nLE CARNAVAL DES ANIMAUX DU MONDE SOUS-MARIN\n\nDimanche 07 J
 uin 2026\n\nClaire LE FUR\, harpe\n	Édith GASTEIGER\, harpe\n	Frédériqu
 e GARNIER\, harpe\n	Magali PYKA Da COSTER\, harpe\n\nDescription\n\n« Le 
 Carnaval des Animaux du Monde Sous-Marin ».\n	Ce film présente des image
 s extraordinaires d'animaux subaquatiques\, capturées par des spécialist
 es de l'image sous-marine\, tels qu'Albert Falco\, le célèbre capitaine 
 de la Calypso\, et Michel Météry\, découvreur des épaves de Saint-Pier
 re en Martinique\, le tout monté par Jean-Pierre Stella. Dans ce court m
 étrage\, des animaux de la mer prennent la place des animaux terrestres i
 nitialement prévus par le compositeur : les requins prennent la place des
  lions\, les baleines remplacent les éléphants\, les langoustes incarnen
 t les animaux à longues oreilles\, et la raie-manta\, le cygne\, le tout 
 est adapté au rythme de la musique de Camille Saint-Saëns.\n\nLes images
  sont accompagnées en direct par le quatuor de harpes sur un arrangement 
 de Bernard Galais.\n\n	 \n
LOCATION:107 AVENUE DAUMESNIL 75012 Paris - FR
ORGANIZER:ASSOCIATION HARPOSPHERE
END:VEVENT
END:VCALENDAR
