BEGIN:VCALENDAR
VERSION:2.0
CALSCALE:GREGORIAN
METHOD:PUBLISH
BEGIN:VEVENT
SUMMARY:Colloque OSMOSE 4 - Mardi 19 mai 2026 : Droits d'usage
DTSTART:20260519T110000Z
DTSTAMP:20260420T224526Z
CATEGORIES:
DESCRIPTION:\nLe programme Osmose est issu d’une collaboration franco-le
 ttonne initiée par des juristes avec une prise en compte de la discipline
  anthropologique. Il vise une perspective de droit comparé\, aux niveaux 
 étatique et inter-étatique\, avec une ouverture sur la mise en œuvre du
  patrimoine culturel immatériel dans d’autres pays\, en Europe bien sû
 r mais également à l’international et concernant également les État
 s non parties à la Convention de 2003. Cette approche comparée a vocatio
 n à pousser la réflexion au-delà de ce qui a été catégorisé « pa
 trimoine culturel immatériel » par les États et a déjà permis de le
 s aider à mettre en œuvre et à comprendre les enjeux de la Convention\,
  les politiques et solutions juridiques qui y sont associées.  \nCet at
 elier constitue le cinquième volet de la série d’ateliers de la 4ème
  édition du programme Osmose\, débutée par celui du 19 mars 2024 au mi
 nistère de la Culture sur le sujet de la patrimonialisation des droits d
 ’usage et plus précisément\, d’une réflexion sur l’interaction en
 tre pluralisme culturel et pluralisme juridique.\n \nProgramme \n13h00 -
  15h00 : L’irrigation traditionnelle gravitaire par canaux" : les enjeu
 x d'une démarche patrimoniale collective\, Aurelie Condevaux (Maitresse d
 e conférences en anthropologie\, Université Paris 1 Panthéon-Sorbonne\,
  EIREST [Equipe Interdisciplinaire de Recherches sur le Tourisme]) et Fran
 cesca Cominelli (Maitresse de conférences en sciences économiques\, Univ
 ersité Paris 1 Panthéon-Sorbonne\, EIREST [Equipe Interdisciplinaire de 
 Recherches sur le Tourisme]\, IREST [Institut de Recherche et d'Etudes Sup
 érieures du Tourisme]).\n \n15h00 - 16h00 : Discussion sur les prochain
 s ateliers Osmose\nDiscutante : Lily Martinet (chargée de mission patrimo
 ine culturel immatériel\, ministère de la Culture).\n \nPOUR INFORMATIO
 N : \nLa participation en présentiel à l’atelier est conditionnée à
  l’inscription du public via Weezevent.\nCet atelier se déroulera en 
 hybride : en présentiel au ministère de la Culture  en salle BE Frère
 s Lumières (site Bons Enfants : 182 rue Saint-Honoré\, 75001 Paris - cap
 acité de la salle limitée) et en distanciel\, via le logiciel Microsof
 t Teams :\n \nRéunion Microsoft Teams\nRejoindre : https://teams.mic
 rosoft.com/meet/38277169338479?p=uBn7C4byFfNC1GOPvD\nNuméro de réunion :
  382 771 693 384 79\nCode secret : 72rT2jX3\n\nBesoin d'aide ? | Réf
 érence système\n \n \nParticiper par téléphone\n+33 1 73 24 00 56\,\
 ,413274153# France\, All locations\nTrouver un numéro local\nNuméro de 
 conférence téléphonique : 413 274 153#\nInviter quelqu’un à prendr
 e part à une conversation sur un appareil en visioconférence\nClé du lo
 cataire : 85077987@t.plcm.vc\nNuméro de vidéo : 127 356 413 3\n \n
  \n
GEO:48.8624265;2.3387776
LOCATION:182 Rue Saint-Honoré 75001 Paris - FR
ORGANIZER:Institut des sciences sociales du politique (ISP)
END:VEVENT
END:VCALENDAR
