BEGIN:VCALENDAR
VERSION:2.0
CALSCALE:GREGORIAN
METHOD:PUBLISH
BEGIN:VEVENT
SUMMARY:SPECTACLE TRES JEUNE PUBLIC "URZO L'ELEPHANT MECHANT" 2-5 ANS
DTSTART:20260520T140000Z
DTSTAMP:20260421T165743Z
CATEGORIES:
DESCRIPTION:Urzo l'éléphant est si imposant que tous les animaux le crai
 gnent. Personne ne l’aime vraiment\, de fait\, il n’aime vraiment pers
 onne. Il passe donc son temps à terroriser tout le monde. Un jour\, son c
 hemin croise celui d’une petite souris téméraire. Lorsqu'il lui fait s
 on numéro habituel\, la voilà qui s'esclaffe. Pire\, la voilà qui lui d
 emande de l'aide : elle est perdue et voudrait bien rentrer chez elle. Voi
 là notre éléphant tout décontenancé. Et si finalement\, Urzo n’éta
 it pas si méchant ?\nIta conte l’histoire d’Urzo\, mêlant dessin en 
 direct et interactions avec un décor fait main. Michaël incarne les pers
 onnages grâce à son installation musicale (percussions\, guitare\, clavi
 er\, boucles). Ils créent ensemble un paysage visuel & sonore immersif po
 ur accompagner l’aventure émouvante de ces personnages colorés. Au fil
  de cette douce histoire sur la tolérance et l’amitié\, les enfants d
 écouvrent l’importance de la communication pour des relations plus sere
 ines ! Le spectacle se conclut par une exploration des différentes étape
 s de la création d’un livre et la découverte de l’installation de Mi
 chaël.
GEO:44.8938412;-0.7146321
LOCATION:Place de la République 33160 Saint-Médard-en-Jalles - FR
ORGANIZER:DIRECTION DE LA CULTURE
END:VEVENT
END:VCALENDAR
