BEGIN:VCALENDAR
VERSION:2.0
CALSCALE:GREGORIAN
METHOD:PUBLISH
BEGIN:VEVENT
SUMMARY:STAGE DE WUTAO • dim 14 juin 2026 • Paris Sud
DTSTART:20260614T080000Z
DTEND:20260614T140000Z
DTSTAMP:20260422T141204Z
CATEGORIES:
DESCRIPTION:\nLe  Wutao®  est une pratique d' écologie corporelle 
  imprégnée des philosophies  taoïste et reichienne.  Son nom repo
 se sur l'union de deux idéogrammes :  « Wu » pour danse ou éveil et 
 « Tao »\, la voie . Le Wutao® a pour principe\, par une approche glob
 ale\, d'éveiller le  mouvement primordial pulsatoire et ondulatoire  
 de la colonne vertébrale grâce au   relâchement du bassin\,  de r
 établir l'onde de vie \, libérer le souffle et induire naturellement d
 es mouvements  spiralés de plus en plus d'amples qui  ouvrent notre c
 orporalité . Chaque mouvement par sa propre  poésie \, nous invite 
 à calligraphier le geste avec délicatesse et nous offre la possibilité 
 de nous laisser traverser et être  touchés par le sentiment du geste.
  C'est un voyage qui permet de développer notre sensorialité\, d'évei
 ller l'âme du corps®  et révéler notre Parfum. \n
LOCATION:Tramway T3a - Stade Charléty  Paris Sud - FR
ORGANIZER:Le Parfum de l'Etre
END:VEVENT
END:VCALENDAR
